BEGIN:VCALENDAR
VERSION:2.0
PRODID:-//BC Gränichen - ECPv6.15.20//NONSGML v1.0//EN
CALSCALE:GREGORIAN
METHOD:PUBLISH
X-WR-CALNAME:BC Gränichen
X-ORIGINAL-URL:https://bcgraenichen.ch
X-WR-CALDESC:Veranstaltungen im BC Gränichen
REFRESH-INTERVAL;VALUE=DURATION:PT1H
X-Robots-Tag:noindex
X-PUBLISHED-TTL:PT1H
BEGIN:VTIMEZONE
TZID:Europe/Zurich
BEGIN:DAYLIGHT
TZOFFSETFROM:+0100
TZOFFSETTO:+0200
TZNAME:CEST
DTSTART:20250330T010000
END:DAYLIGHT
BEGIN:STANDARD
TZOFFSETFROM:+0200
TZOFFSETTO:+0100
TZNAME:CET
DTSTART:20251026T010000
END:STANDARD
BEGIN:DAYLIGHT
TZOFFSETFROM:+0100
TZOFFSETTO:+0200
TZNAME:CEST
DTSTART:20260329T010000
END:DAYLIGHT
BEGIN:STANDARD
TZOFFSETFROM:+0200
TZOFFSETTO:+0100
TZNAME:CET
DTSTART:20261025T010000
END:STANDARD
BEGIN:DAYLIGHT
TZOFFSETFROM:+0100
TZOFFSETTO:+0200
TZNAME:CEST
DTSTART:20270328T010000
END:DAYLIGHT
BEGIN:STANDARD
TZOFFSETFROM:+0200
TZOFFSETTO:+0100
TZNAME:CET
DTSTART:20271031T010000
END:STANDARD
END:VTIMEZONE
BEGIN:VEVENT
DTSTART;TZID=Europe/Zurich:20260110T120000
DTEND;TZID=Europe/Zurich:20260110T233000
DTSTAMP:20260421T222346
CREATED:20250830T065337Z
LAST-MODIFIED:20251212T180138Z
UID:2606-1768046400-1768087800@bcgraenichen.ch
SUMMARY:Neujahrsturnier 2026
DESCRIPTION:Weitere Infos folgen per E-Mail oder im Chat
URL:https://bcgraenichen.ch/termin/neujahrsturnier-2026/
LOCATION:MZH Gränichen\, Mitteldorfstrasse 24\, Gränichen\, 5722\, Switzerland
CATEGORIES:Events BC Gränichen
ATTACH;FMTTYPE=image/png:https://bcgraenichen.ch/wp-content/uploads/2020/04/LOGO_schwarz.png
END:VEVENT
END:VCALENDAR